BEGIN:VCALENDAR
VERSION:2.0
PRODID:-//Boone County, Indiana - ECPv6.15.18//NONSGML v1.0//EN
CALSCALE:GREGORIAN
METHOD:PUBLISH
X-WR-CALNAME:Boone County, Indiana
X-ORIGINAL-URL:https://boonecounty.in.gov
X-WR-CALDESC:Events for Boone County, Indiana
REFRESH-INTERVAL;VALUE=DURATION:PT1H
X-Robots-Tag:noindex
X-PUBLISHED-TTL:PT1H
BEGIN:VTIMEZONE
TZID:America/Indiana/Indianapolis
BEGIN:DAYLIGHT
TZOFFSETFROM:-0500
TZOFFSETTO:-0400
TZNAME:EDT
DTSTART:20250309T070000
END:DAYLIGHT
BEGIN:STANDARD
TZOFFSETFROM:-0400
TZOFFSETTO:-0500
TZNAME:EST
DTSTART:20251102T060000
END:STANDARD
BEGIN:DAYLIGHT
TZOFFSETFROM:-0500
TZOFFSETTO:-0400
TZNAME:EDT
DTSTART:20260308T070000
END:DAYLIGHT
BEGIN:STANDARD
TZOFFSETFROM:-0400
TZOFFSETTO:-0500
TZNAME:EST
DTSTART:20261101T060000
END:STANDARD
BEGIN:DAYLIGHT
TZOFFSETFROM:-0500
TZOFFSETTO:-0400
TZNAME:EDT
DTSTART:20270314T070000
END:DAYLIGHT
BEGIN:STANDARD
TZOFFSETFROM:-0400
TZOFFSETTO:-0500
TZNAME:EST
DTSTART:20271107T060000
END:STANDARD
END:VTIMEZONE
BEGIN:VEVENT
DTSTART;TZID=America/Indiana/Indianapolis:20260414T083000
DTEND;TZID=America/Indiana/Indianapolis:20260414T100000
DTSTAMP:20260420T022118
CREATED:20251125T172045Z
LAST-MODIFIED:20260113T132143Z
UID:17014-1776155400-1776160800@boonecounty.in.gov
SUMMARY:Boone County Council Meeting
DESCRIPTION:
URL:https://boonecounty.in.gov/event/boone-county-council-meeting-4-2026-02-10/2026-04-14/
CATEGORIES:County Council
END:VEVENT
BEGIN:VEVENT
DTSTART;TZID=America/Indiana/Indianapolis:20260414T083000
DTEND;TZID=America/Indiana/Indianapolis:20260414T120000
DTSTAMP:20260420T022118
CREATED:20251218T191431Z
LAST-MODIFIED:20260410T130019Z
UID:17232-1776155400-1776168000@boonecounty.in.gov
SUMMARY:Boone County Council Meeting
DESCRIPTION:County Council Agenda
URL:https://boonecounty.in.gov/event/boone-county-council-meeting-5-2026-04-14/
CATEGORIES:County Council
END:VEVENT
END:VCALENDAR